BEGIN:VCALENDAR
VERSION:2.0
PRODID:-//3C-REN - ECPv6.15.20//NONSGML v1.0//EN
CALSCALE:GREGORIAN
METHOD:PUBLISH
X-WR-CALNAME:3C-REN
X-ORIGINAL-URL:https://www.3c-ren.org
X-WR-CALDESC:Events for 3C-REN
REFRESH-INTERVAL;VALUE=DURATION:PT1H
X-Robots-Tag:noindex
X-PUBLISHED-TTL:PT1H
BEGIN:VTIMEZONE
TZID:America/Los_Angeles
BEGIN:DAYLIGHT
TZOFFSETFROM:-0800
TZOFFSETTO:-0700
TZNAME:PDT
DTSTART:20220313T100000
END:DAYLIGHT
BEGIN:STANDARD
TZOFFSETFROM:-0700
TZOFFSETTO:-0800
TZNAME:PST
DTSTART:20221106T090000
END:STANDARD
BEGIN:DAYLIGHT
TZOFFSETFROM:-0800
TZOFFSETTO:-0700
TZNAME:PDT
DTSTART:20230312T100000
END:DAYLIGHT
BEGIN:STANDARD
TZOFFSETFROM:-0700
TZOFFSETTO:-0800
TZNAME:PST
DTSTART:20231105T090000
END:STANDARD
BEGIN:DAYLIGHT
TZOFFSETFROM:-0800
TZOFFSETTO:-0700
TZNAME:PDT
DTSTART:20240310T100000
END:DAYLIGHT
BEGIN:STANDARD
TZOFFSETFROM:-0700
TZOFFSETTO:-0800
TZNAME:PST
DTSTART:20241103T090000
END:STANDARD
BEGIN:DAYLIGHT
TZOFFSETFROM:-0800
TZOFFSETTO:-0700
TZNAME:PDT
DTSTART:20250309T100000
END:DAYLIGHT
BEGIN:STANDARD
TZOFFSETFROM:-0700
TZOFFSETTO:-0800
TZNAME:PST
DTSTART:20251102T090000
END:STANDARD
END:VTIMEZONE
BEGIN:VEVENT
DTSTART;TZID=America/Los_Angeles:20241107T080000
DTEND;TZID=America/Los_Angeles:20241107T110000
DTSTAMP:20260420T091725
CREATED:20240724T154439Z
LAST-MODIFIED:20241002T230616Z
UID:10000379-1730966400-1730977200@www.3c-ren.org
SUMMARY:ZNCD: All-Electric Design & Construction Series – Day 2
DESCRIPTION:Register \nThis is an in-person course\, provided in partnership with the AIA California Central Coast Chapter.  \n8:30 AM – 11:00 AM  \nDoors open at 8:00 AM for coﬀee\, snacks and networking  \nEvent Description \nOn the path to Zero Net Carbon Design\, building electrification is the key to reducing operational carbon. In this course\, we’ll share the nuts and bolts of incorporating all-electric systems into residential and small commercial projects\, including tips for implementation as well as client communication. We’ll provide straightforward information on current systems and technologies plus a look ahead at what’s emerging in the market. \nThis series has been developed to fulfill the California requirement for five hours of ZNCD education as part of architecture license renewal. Although created with architects in mind\, the content is broadly applicable across the building industry.  \nLearning Objectives \n\nLearn the ‘why’ behind California’s shift to building electrification and the link to Zero Net Carbon Design \n\n\nLearn the pros and cons of various products to help in selecting appropriate systems that meet electrification and carbon-reduction goals \n\n\nLearn critical installation details such as dimensions and venting to call out in plans and/or identify early in construction \n\n\nUnderstand the local market for specific all-electric/ZNCD equipment\, including cost\, availability and lead times. \n\nAgenda \n\nOctober 10\, 2024\n\nPart 1: Carbon Reduction through Building Electrification will address California’s targets for carbon reduction\, status of the clean power grid\, the role of energy storage and emerging options for refrigerants. \nPart 2: ZNCD for Heat Pumps for heating and cooling will address ducted and ductless heat pumps for thermal comfort.  \nPart 3a: ZNCD for Domestic Hot Water will focus on integrated and split-system Heat Pump Water Heaters\, as well as combination systems and point-of-use electric resistance water heaters  \n\n\n\n  \n\nNovember 7\, 2024\n\nPart 3b: ZNCD for Domestic Hot Water will focus on integrated and split-system Heat Pump Water Heaters\, as well as combination systems and point-of-use electric resistance water heaters  \nPart 4: ZNCD for Ventilation and HRV will look at exhaust fans\, ducted ventilation and heat recovery ventilators that support energy efficiency and healthy interiors \nPart 5: ZNCD for Appliances & Energy Storage looks at electric options for cooktops\, dryers and other appliances as well as current and emerging battery technologies for energy storage. \n\n\n\n  \nLearning Units \n2.5 AIA HSW LUs approved for this course \nInstructors \nJennifer Rennick – In Balance Green Consulting \nAndy Pease – In Balance Green Consulting \nGrant Murphy – In Balance Green Consulting
URL:https://www.3c-ren.org/event/zncd-all-electric-design-construction-series-day-2/
LOCATION:RRM Design Group Training Room\, 3765 S Higuera St # 102\, San Luis Obispo\, California\, 93401
END:VEVENT
BEGIN:VEVENT
DTSTART;TZID=America/Los_Angeles:20241010T080000
DTEND;TZID=America/Los_Angeles:20241010T110000
DTSTAMP:20260420T091725
CREATED:20240723T233629Z
LAST-MODIFIED:20241002T230509Z
UID:10000378-1728547200-1728558000@www.3c-ren.org
SUMMARY:ZNCD: All-Electric Design & Construction Series – Day 1
DESCRIPTION:Register \nThis is an in-person course\, provided in partnership with the AIA California Central Coast Chapter.  \n8:30 AM – 11:00 AM  \nDoors open at 8:00 AM for coﬀee\, snacks and networking  \nEvent Description \nOn the path to Zero Net Carbon Design\, building electrification is the key to reducing operational carbon. In this course\, we’ll share the nuts and bolts of incorporating all-electric systems into residential and small commercial projects\, including tips for implementation as well as client communication. We’ll provide straightforward information on current systems and technologies plus a look ahead at what’s emerging in the market. \nThis series has been developed to fulfill the California requirement for five hours of ZNCD education as part of architecture license renewal. Although created with architects in mind\, the content is broadly applicable across the building industry.  \nLearning Objectives \n\nLearn the ‘why’ behind California’s shift to building electrification and the link to Zero Net Carbon Design \n\n\nLearn the pros and cons of various products to help in selecting appropriate systems that meet electrification and carbon-reduction goals \n\n\nLearn critical installation details such as dimensions and venting to call out in plans and/or identify early in construction \n\n\nUnderstand the local market for specific all-electric/ZNCD equipment\, including cost\, availability and lead times. \n\nAgenda \n\nOctober 10\, 2024\n\nPart 1: Carbon Reduction through Building Electrification will address California’s targets for carbon reduction\, status of the clean power grid\, the role of energy storage and emerging options for refrigerants. \nPart 2: ZNCD for Heat Pumps for heating and cooling will address ducted and ductless heat pumps for thermal comfort.  \nPart 3a: ZNCD for Domestic Hot Water will focus on integrated and split-system Heat Pump Water Heaters\, as well as combination systems and point-of-use electric resistance water heaters  \n\n\n\n  \n\nNovember 7\, 2024\n\nPart 3b: ZNCD for Domestic Hot Water will focus on integrated and split-system Heat Pump Water Heaters\, as well as combination systems and point-of-use electric resistance water heaters  \nPart 4: ZNCD for Ventilation and HRV will look at exhaust fans\, ducted ventilation and heat recovery ventilators that support energy efficiency and healthy interiors \nPart 5: ZNCD for Appliances & Energy Storage looks at electric options for cooktops\, dryers and other appliances as well as current and emerging battery technologies for energy storage. \n\n\n\n  \nLearning Units \n2.5 AIA HSW LUs approved for this course \nInstructors \nJennifer Rennick – In Balance Green Consulting \nAndy Pease – In Balance Green Consulting \nGrant Murphy – In Balance Green Consulting
URL:https://www.3c-ren.org/event/zncd-all-electric-design-construction-series-day-1/
LOCATION:RRM Design Group Training Room\, 3765 S Higuera St # 102\, San Luis Obispo\, California\, 93401
END:VEVENT
BEGIN:VEVENT
DTSTART;TZID=America/Los_Angeles:20230309T083000
DTEND;TZID=America/Los_Angeles:20230309T110000
DTSTAMP:20260420T091725
CREATED:20221215T210949Z
LAST-MODIFIED:20221215T210949Z
UID:10000188-1678350600-1678359600@www.3c-ren.org
SUMMARY:Zero Net Carbon Design\, Part 2
DESCRIPTION:REGISTER\n  \nDates: Thursday\, February 9 (Part 1) AND Thursday March 9 (Part 2)\, 2023 \nTime: 8:30 – 11:00 AM \nLocation: Doors open at 8:00 AM for coffee\, snacks and networking. \nRRM Design Group Training Room\, 3765 S Higuera St # 102\, San Luis Obispo \nNOTE: For the full 5 hours of learning units\, you must register for both February 9 (Part 1) AND March 9 (Part 2). \nPresented in partnership with AIA California Central Coast\, this course is centered around Zero Net Carbon Design (ZNCD)\, beginning with background and an overview of carbon in the building industry\, then focused content on energy performance and renewable energy\, water-savings as energy-savings\, embodied carbon\, and finally regenerative design. \n  \nSpread over two-morning sessions\, 2 ½ hours each\, the course has been developed to fulfill the new California requirement for architects to have five hours of ZNCD education as part of their license renewal. Although created with architects in mind\, the content is broadly applicable across the building industry. \n  \nLearning objectives (over 5 hours of learning) \n· Understand zero net carbon\, the fuel mix of the power grid\, and other factors that influences California’s energy code \n· Differentiate between operational and embodied carbon\, and identify key metrics and mitigations \n· Be able to describe the energy-water nexus and compare water-saving strategies \n· Review Environmental Product Declarations (EPDs) and tools for evaluating embodied carbon \n· Be able to differentiate between regenerative and sustainable design strategies and available standards and certifications \n  \nPresenters include: \n· Jennifer Rennick\, AIA\, Certified Energy Analyst \n· Andy Pease\, AIA\, LEED AP BD+C \n· Michelle Zimney\, LEED AP BD+C\, LFA\, CPHC \n 
URL:https://www.3c-ren.org/event/zero-net-carbon-design-part-2/
LOCATION:RRM Design Group Training Room\, 3765 S Higuera St # 102\, San Luis Obispo\, California\, 93401
END:VEVENT
BEGIN:VEVENT
DTSTART;TZID=America/Los_Angeles:20230209T083000
DTEND;TZID=America/Los_Angeles:20230209T110000
DTSTAMP:20260420T091725
CREATED:20221215T210625Z
LAST-MODIFIED:20221215T210625Z
UID:10000187-1675931400-1675940400@www.3c-ren.org
SUMMARY:Zero Net Carbon Design\, Part 1
DESCRIPTION:REGISTER\n  \nDates: Thursday\, February 9 (Part 1) AND Thursday March 9 (Part 2)\, 2023 \nTime: 8:30 – 11:00 AM \nLocation: Doors open at 8:00 AM for coffee\, snacks and networking. \nRRM Design Group Training Room\, 3765 S Higuera St # 102\, San Luis Obispo \nNOTE: For the full 5 hours of learning units\, you must register for both February 9 (Part 1) AND March 9 (Part 2). \nPresented in partnership with AIA California Central Coast\, this course is centered around Zero Net Carbon Design (ZNCD)\, beginning with background and an overview of carbon in the building industry\, then focused content on energy performance and renewable energy\, water-savings as energy-savings\, embodied carbon\, and finally regenerative design. \n  \nSpread over two-morning sessions\, 2 ½ hours each\, the course has been developed to fulfill the new California requirement for architects to have five hours of ZNCD education as part of their license renewal. Although created with architects in mind\, the content is broadly applicable across the building industry. \n  \nLearning objectives (over 5 hours of learning) \n· Understand zero net carbon\, the fuel mix of the power grid\, and other factors that influences California’s energy code \n· Differentiate between operational and embodied carbon\, and identify key metrics and mitigations \n· Be able to describe the energy-water nexus and compare water-saving strategies \n· Review Environmental Product Declarations (EPDs) and tools for evaluating embodied carbon \n· Be able to differentiate between regenerative and sustainable design strategies and available standards and certifications \n  \nPresenters include: \n· Jennifer Rennick\, AIA\, Certified Energy Analyst \n· Andy Pease\, AIA\, LEED AP BD+C \n· Michelle Zimney\, LEED AP BD+C\, LFA\, CPHC \n 
URL:https://www.3c-ren.org/event/zero-net-carbon-design-part-1/
LOCATION:RRM Design Group Training Room\, 3765 S Higuera St # 102\, San Luis Obispo\, California\, 93401
CATEGORIES:BPT
END:VEVENT
END:VCALENDAR