BEGIN:VCALENDAR
VERSION:2.0
PRODID:-//3C-REN - ECPv6.15.20//NONSGML v1.0//EN
CALSCALE:GREGORIAN
METHOD:PUBLISH
X-ORIGINAL-URL:https://www.3c-ren.org
X-WR-CALDESC:Events for 3C-REN
REFRESH-INTERVAL;VALUE=DURATION:PT1H
X-Robots-Tag:noindex
X-PUBLISHED-TTL:PT1H
BEGIN:VTIMEZONE
TZID:UTC
BEGIN:STANDARD
TZOFFSETFROM:+0000
TZOFFSETTO:+0000
TZNAME:UTC
DTSTART:20230101T000000
END:STANDARD
END:VTIMEZONE
BEGIN:VTIMEZONE
TZID:America/Los_Angeles
BEGIN:DAYLIGHT
TZOFFSETFROM:-0800
TZOFFSETTO:-0700
TZNAME:PDT
DTSTART:20230312T100000
END:DAYLIGHT
BEGIN:STANDARD
TZOFFSETFROM:-0700
TZOFFSETTO:-0800
TZNAME:PST
DTSTART:20231105T090000
END:STANDARD
BEGIN:DAYLIGHT
TZOFFSETFROM:-0800
TZOFFSETTO:-0700
TZNAME:PDT
DTSTART:20240310T100000
END:DAYLIGHT
BEGIN:STANDARD
TZOFFSETFROM:-0700
TZOFFSETTO:-0800
TZNAME:PST
DTSTART:20241103T090000
END:STANDARD
BEGIN:DAYLIGHT
TZOFFSETFROM:-0800
TZOFFSETTO:-0700
TZNAME:PDT
DTSTART:20250309T100000
END:DAYLIGHT
BEGIN:STANDARD
TZOFFSETFROM:-0700
TZOFFSETTO:-0800
TZNAME:PST
DTSTART:20251102T090000
END:STANDARD
END:VTIMEZONE
BEGIN:VEVENT
DTSTART;TZID=UTC:20241203T073000
DTEND;TZID=UTC:20241203T090000
DTSTAMP:20260422T065936
CREATED:20241015T033551Z
LAST-MODIFIED:20241116T001627Z
UID:10000387-1733211000-1733216400@www.3c-ren.org
SUMMARY:Installing Heat Pump Water Heaters (HPWH) – In Partnership with Ventura County Contractors Association
DESCRIPTION:Register \nHeat pump water heaters are where California is headed\, and this workforce education aims to smooth that transition. Learn from experts how to install heat pump water heaters so they provide reliable and efficient hot water on your projects. Designed for plumbers and HVAC technicians with hands-on material\, this training will be useful to all audiences. \nLight refreshments will be served. \nThis event is part of a series in partnership with local contractor associations. Check out the event flyer to learn more! \nLearning Objectives \n\nUnderstand why we need HPWHs\nDistinguish how HPWHs are different from typical water heaters\nAcquire practical skills through a hands-on demonstration on installing a HPWH in a closet\nUnderstand the importance of Air Flow\nExplore the do’s and don’ts of installation based on real-life examples\n\nInstructors \nNick Brown\, Build Smart Group \nGary Klein\, Gary Klein & Associates
URL:https://www.3c-ren.org/event/free-training-for-plumbers-on-heat-pump-water-heater-hpwh-installs/
LOCATION:Hansen’s Plumbing\, 2686 Johnson Dr Ste 203\, Ventura\, 93003\, United States
END:VEVENT
BEGIN:VEVENT
DTSTART;TZID=UTC:20241204T073000
DTEND;TZID=UTC:20241204T090000
DTSTAMP:20260422T065936
CREATED:20241015T034045Z
LAST-MODIFIED:20241116T001714Z
UID:10000388-1733297400-1733302800@www.3c-ren.org
SUMMARY:Installing Heat Pump Water Heaters (HPWH) – In Partnership with Santa Barbara Contractors Association
DESCRIPTION:Register \nHeat pump water heaters are where California is headed\, and this workforce education aims to smooth that transition. Learn from experts how to install heat pump water heaters so they provide reliable and efficient hot water on your projects. Designed for plumbers with hands-on material\, this training will be useful to all audiences. \nLight refreshments will be served. \nThis event is part of a series in partnership with local contractor associations. Check out the event flyer to learn more! \nLearning Objectives \n\nUnderstand why we need HPWHs\nDistinguish how HPWHs are different from typical water heaters\nAcquire practical skills through a hands-on demonstration on installing a HPWH in a closet\nUnderstand the importance of Air Flow\nExplore the do’s and don’ts of installation based on real-life examples\n\nInstructors \nNick Brown\, Build Smart Group \nGary Klein\, Gary Klein & Associates
URL:https://www.3c-ren.org/event/free-training-for-plumbers-on-heat-pump-water-heater-hpwh-installs-2/
LOCATION:Santa Barbara Veterans Memorial Building\, 112 W Cabrillo Blvd\, Santa Barbara\, 93101\, United States
END:VEVENT
BEGIN:VEVENT
DTSTART;TZID=UTC:20241204T120000
DTEND;TZID=UTC:20241204T133000
DTSTAMP:20260422T065936
CREATED:20241015T034220Z
LAST-MODIFIED:20241116T001756Z
UID:10000389-1733313600-1733319000@www.3c-ren.org
SUMMARY:Installing Heat Pump Water Heaters (HPWH) – In Partnership with Santa Maria Valley Contractors Association
DESCRIPTION:Register \nHeat pump water heaters are where California is headed\, and this workforce education aims to smooth that transition. Learn from experts how to install heat pump water heaters so they provide reliable and efficient hot water on your projects. Designed for plumbers with hands-on material\, this training will be useful to all audiences. \nLight refreshments will be served. \nThis event is part of a series in partnership with local contractor associations. Check out the event flyer to learn more! \nLearning Objectives \n\nUnderstand why we need HPWHs\nDistinguish how HPWHs are different from typical water heaters\nAcquire practical skills through a hands-on demonstration on installing a HPWH in a closet\nUnderstand the importance of Air Flow\nExplore the do’s and don’ts of installation based on real-life examples\n\nInstructors \nNick Brown\, Build Smart Group \nGary Klein\, Gary Klein & Associates
URL:https://www.3c-ren.org/event/free-training-for-plumbers-on-heat-pump-water-heater-hpwh-installs-3/
LOCATION:Santa Maria Veteran’s Memorial Building\, 313 W Tunnell St.\, Santa Maria\, CA\, 93458\, United States
END:VEVENT
BEGIN:VEVENT
DTSTART;TZID=UTC:20241205T080000
DTEND;TZID=UTC:20241205T093000
DTSTAMP:20260422T065936
CREATED:20241015T034351Z
LAST-MODIFIED:20241116T001827Z
UID:10000390-1733385600-1733391000@www.3c-ren.org
SUMMARY:Installing Heat Pump Water Heaters (HPWH) – In Partnership with SLO County Builders Exchange
DESCRIPTION:Register \nHeat pump water heaters are where California is headed\, and this workforce education aims to smooth that transition. Learn from experts how to install heat pump water heaters so they provide reliable and efficient hot water on your projects. Designed for plumbers with hands-on material\, this training will be useful to all audiences. \nLight refreshments will be served. \nThis event is part of a series in partnership with local contractor associations. Check out the event flyer to learn more! \nLearning Objectives \n\nUnderstand why we need HPWHs\nDistinguish how HPWHs are different from typical water heaters\nAcquire practical skills through a hands-on demonstration on installing a HPWH in a closet\nUnderstand the importance of Air Flow\nExplore the do’s and don’ts of installation based on real-life examples\n\nInstructors \nNick Brown\, Build Smart Group \nGary Klein\, Gary Klein & Associates
URL:https://www.3c-ren.org/event/free-training-for-plumbers-on-heat-pump-water-heater-hpwh-installs-4/
LOCATION:SLO County Builders Exchange\, 153 Cross St Ste 130\, San Luis Obsipo\, CA\, 93401\, United States
END:VEVENT
BEGIN:VEVENT
DTSTART;TZID=UTC:20241206T090000
DTEND;TZID=UTC:20241206T094500
DTSTAMP:20260422T065936
CREATED:20241126T041358Z
LAST-MODIFIED:20241126T041358Z
UID:10000399-1733475600-1733478300@www.3c-ren.org
SUMMARY:3C-REN Single Family Home Energy Savings Program: 2025 Market Overview Webinar
DESCRIPTION:Register \nEvent Description \nJoin us for the 3C-REN Single Family Home Energy Savings Program: 2025 Market Overview Webinar\, where we’ll share key program updates\, including details on the incentive budget and important changes to the project submission process through the new Project Hub. This webinar is your opportunity to get ahead of the market reopening on December 11th\, 2024\, and ensure a smooth start to the 2025 program year. \nSpeaker \nReid Leiter\, Recurve
URL:https://www.3c-ren.org/event/3c-ren-single-family-home-energy-savings-program-2025-market-overview-webinar/
END:VEVENT
BEGIN:VEVENT
DTSTART;TZID=UTC:20241210T073000
DTEND;TZID=UTC:20241210T090000
DTSTAMP:20260422T065936
CREATED:20241107T021449Z
LAST-MODIFIED:20241107T021449Z
UID:10000392-1733815800-1733821200@www.3c-ren.org
SUMMARY:Ventura County Electrification Incentive Breakfast for Contractors
DESCRIPTION:Register \nEvent Description \nJoin 3C-REN\, TECH Clean California\, Santa Barbara Clean Energy\, and Central Coast Community Energy for an in-person workshop to learn more about federal\, state\, and local incentives and rebates available across the Central Coast to support home electrification projects as well as upcoming training opportunities for your business. Breakfast will be provided for attendees.
URL:https://www.3c-ren.org/event/ventura-county-electrification-incentive-breakfast-for-contractors/
LOCATION:Ventura County Government Center\, 800 S Victoria Ave\, Ventura\, CA\, 93009\, United States
END:VEVENT
BEGIN:VEVENT
DTSTART;TZID=America/Los_Angeles:20241210T121500
DTEND;TZID=America/Los_Angeles:20241210T133000
DTSTAMP:20260422T065936
CREATED:20241108T071840Z
LAST-MODIFIED:20241109T072559Z
UID:10000396-1733832900-1733837400@www.3c-ren.org
SUMMARY:Santa Barbara County Electrification Incentive Lunch for Contractors
DESCRIPTION:Register \nEvent Description \nJoin 3C-REN\, TECH Clean California\, Santa Barbara Clean Energy\, and Central Coast Community Energy for an in-person workshop to learn more about federal\, state\, and local incentives and rebates available across the Central Coast to support home electrification projects as well as upcoming training opportunities for your business. \nLunch will be provided for attendees.
URL:https://www.3c-ren.org/event/santa-barbara-county-electrification-incentive-lunch-for-contractors/
LOCATION:Santa Barbara Golf Club (Mulligan’s Cafe)\, 3500 McCaw Ave\, Santa Barbara\, CA\, 93105\, United States
END:VEVENT
BEGIN:VEVENT
DTSTART;TZID=UTC:20241211T073000
DTEND;TZID=UTC:20241211T090000
DTSTAMP:20260422T065936
CREATED:20241107T064911Z
LAST-MODIFIED:20241107T065243Z
UID:10000395-1733902200-1733907600@www.3c-ren.org
SUMMARY:Santa Maria Electrification Incentive Breakfast for Contractors
DESCRIPTION:Register \nEvent Description \nJoin 3C-REN\, TECH Clean California\, Santa Barbara Clean Energy\, and Central Coast Community Energy for an in-person workshop to learn more about federal\, state\, and local incentives and rebates available across the Central Coast to support home electrification projects as well as upcoming training opportunities for your business. Breakfast will be provided for attendees.
URL:https://www.3c-ren.org/event/santa-maria-electrification-incentive-breakfast-for-contractors/
LOCATION:Minami Community Center\, 600 W Enos Drive\, Santa Maria\, CA\, 93458\, United States
END:VEVENT
BEGIN:VEVENT
DTSTART;TZID=America/Los_Angeles:20241211T090000
DTEND;TZID=America/Los_Angeles:20241211T103000
DTSTAMP:20260422T065936
CREATED:20240514T192528Z
LAST-MODIFIED:20240823T034101Z
UID:10000343-1733907600-1733913000@www.3c-ren.org
SUMMARY:Real Estate Professionals Community Mentoring Session
DESCRIPTION:Register \nSessions will provide ongoing support for real estate agents and appraisers on the topics of Efficient\, Healthy\, Clean-energy Homes. \nParticipants are invited to bring questions\, share experiences\, and continue to build their expertise. \nInstructor: Debra Little\, Home Performance and Valuation Specialist\, AjO
URL:https://www.3c-ren.org/event/real-estate-professionals-community-mentoring-session-3/
CATEGORIES:BPT
END:VEVENT
BEGIN:VEVENT
DTSTART;TZID=UTC:20241211T183000
DTEND;TZID=UTC:20241211T193000
DTSTAMP:20260422T065936
CREATED:20241126T183726Z
LAST-MODIFIED:20241126T183726Z
UID:10000400-1733941800-1733945400@www.3c-ren.org
SUMMARY:For Residents: Finding Heat Pump HVAC Experts and Unlocking Rebates
DESCRIPTION:Register \nEvent Description \nJoin 3C-REN and Resilient Central Coast for an informative webinar on heat pump technology for home heating and cooling. Finding a knowledgeable contractor is key to ensuring you choose the right system for your home electrification needs. Since heat pump technology is relatively new\, working with an experienced contractor will help you identify the best solution for your home\, navigate available incentives\, and explore other electrification options. \nIn this 1-hour session\, we’ll cover: \n\nThe nuances of HVAC heat pump technology\nHow to find qualified contractors and ask the right questions to verify their expertise\nTips for comparing quotes\, including efficiency ratings and available incentives\nInformation on rebates for Central Coast residents from programs like TECH Clean CA\, the Inflation Reduction Act (HEEHRA)\, 3CE and 3C-REN\n\nWe look forward to equipping you with the knowledge and resources to upgrade your HVAC system! \nSpeakers \nRepresentatives from Ecology Action\, 3C-REN\, Electrify Now and Electrify My Home
URL:https://www.3c-ren.org/event/finding-hp-hvac-experts-and-rebates/
END:VEVENT
BEGIN:VEVENT
DTSTART;TZID=UTC:20241212T130000
DTEND;TZID=UTC:20241212T153000
DTSTAMP:20260422T065936
CREATED:20241107T033807Z
LAST-MODIFIED:20241206T041229Z
UID:10000394-1734008400-1734017400@www.3c-ren.org
SUMMARY:Installing Heat Pump Water Heaters in Manufactured Homes
DESCRIPTION:Register \nEvent Description \nManufactured homes are an underserved market for home energy upgrades that come with unique opportunities and challenges. Attend this in-person training to learn best practices for installing ducted heat pump HVAC systems in a double wide manufactured home. Complementary lunch will be provided from Lincoln Deli. \nAttendees can meet at Chumash Village Community Room for lunch and can park outside the main building. After lunch they will move to a double wide unit located on site for the training. \nLearning Objectives \n\nHow to size heat pump water heaters for manufactured homes\nThe importance of thermostatic mixing valves and expansion tanks\nVentilation best practices\nInstallation techniques for plug-in water heaters.\nWhen and how to re-pipe to accommodate a new water heater\n\nInstructor \nRich Souther\, Pacific Heating & Sheet Metal
URL:https://www.3c-ren.org/event/installing-heat-pump-water-heaters-in-manufactured-homes/
LOCATION:Chumash Village\, 3057 S Higuera St\, San Luis Obispo\, CA\, 93401\, United States
END:VEVENT
BEGIN:VEVENT
DTSTART;TZID=America/Los_Angeles:20241218T090000
DTEND;TZID=America/Los_Angeles:20241218T103000
DTSTAMP:20260422T065936
CREATED:20240712T165640Z
LAST-MODIFIED:20241109T060520Z
UID:10000374-1734512400-1734517800@www.3c-ren.org
SUMMARY:Centralized versus Decentralized Ventilation Systems
DESCRIPTION:Register \nEvent Description  \nThere are a number of new decentralized ventilation products and certainly more centralized HRV systems. What do customers need to consider when choosing between these systems for their new or retrofit projects. \nLearning Objectives  \n\nCommunicate why ventilation is necessary as homes and buildings become more airtight.\nSummarize the differences between a centralized and decentralized balanced ventilation system.\nIdentify the pros and cons of centralized and decentralized ventilation systems.\nExplain ventilation system choices to customers (for builders).\n\nLearning Units  \n1 AIA LU Pending for this course \nInstructor \nEric Fenno\, Small Planet Supply
URL:https://www.3c-ren.org/event/centralized-versus-decentralized-hrv-systems/
END:VEVENT
BEGIN:VEVENT
DTSTART;TZID=UTC:20241219T120000
DTEND;TZID=UTC:20241219T130000
DTSTAMP:20260422T065936
CREATED:20241128T062009Z
LAST-MODIFIED:20241128T062009Z
UID:10000404-1734609600-1734613200@www.3c-ren.org
SUMMARY:Carbon Reduction through Building Electrification – Part 1: All-Electric Design and Construction Series
DESCRIPTION:Register \nEvent Description \nAll-Electric Design & Construction Series \nOn the path to Zero Net Carbon Design\, building electrification is the key to reducing operational carbon. In this course\, we’ll share the nuts and bolts of incorporating all-electric systems into residential and small commercial projects\, including tips for implementation as well as client communication. We’ll provide straight-forward information on current systems and technologies plus a look ahead at what’s emerging in the market. \n\nPart 1: Carbon Reduction through Building Electrification will address California’s targets for carbon reduction\, status of the clean power grid\, the role of energy storage and emerging options for refrigerants.\nPart 2: Heat Pumps for Heating and Cooling will address ducted and ductless heat pumps for thermal comfort.\nPart 3: Domestic Hot Water\, will focus on integrated and split-system Heat Pump Water Heaters\, as well as combination systems and point-of-use electric resistance water heaters\nPart 4: Ventilation and HRV\, will look at exhaust fans\, ducted ventilation and heat recovery ventilators that support energy efficiency and healthy interiors\nPart 5: Appliances & Energy Storage\, looks at electric options for cooktops\, dryers and other appliances as well as current and emerging battery technologies for energy storage.\n\nThis series has been developed to fulfill the California requirement for five hours of ZNCD education as part of architecture license renewal. Although created with architects in mind\, the content is broadly applicable across the building industry. \n  \nLearning Objectives \n\nLearn the ‘why’ behind California’s shift to building electrification and the link to Zero Net Carbon Design\nLearn the pros and cons of various products to help in selecting appropriate systems that meet electrification and carbon-reduction goals\nLearn critical installation details such as dimensions and venting to call out in plans and/or identify early in construction\nUnderstand the local market for specific all-electric/ZNCD equipment\, including cost\, availability and lead times\n\n  \nLearning Units \n1.0 AIA HSW LUs approved for this course \n  \nInstructor \nJennifer Rennick\, In Balance Green Consulting \n 
URL:https://www.3c-ren.org/event/carbon-reduction-through-building-electrification-part-1-all-electric-design-and-construction-series/
END:VEVENT
END:VCALENDAR