BEGIN:VCALENDAR
VERSION:2.0
PRODID:-//3C-REN - ECPv6.15.20//NONSGML v1.0//EN
CALSCALE:GREGORIAN
METHOD:PUBLISH
X-ORIGINAL-URL:https://www.3c-ren.org
X-WR-CALDESC:Events for 3C-REN
REFRESH-INTERVAL;VALUE=DURATION:PT1H
X-Robots-Tag:noindex
X-PUBLISHED-TTL:PT1H
BEGIN:VTIMEZONE
TZID:America/Los_Angeles
BEGIN:DAYLIGHT
TZOFFSETFROM:-0800
TZOFFSETTO:-0700
TZNAME:PDT
DTSTART:20230312T100000
END:DAYLIGHT
BEGIN:STANDARD
TZOFFSETFROM:-0700
TZOFFSETTO:-0800
TZNAME:PST
DTSTART:20231105T090000
END:STANDARD
BEGIN:DAYLIGHT
TZOFFSETFROM:-0800
TZOFFSETTO:-0700
TZNAME:PDT
DTSTART:20240310T100000
END:DAYLIGHT
BEGIN:STANDARD
TZOFFSETFROM:-0700
TZOFFSETTO:-0800
TZNAME:PST
DTSTART:20241103T090000
END:STANDARD
BEGIN:DAYLIGHT
TZOFFSETFROM:-0800
TZOFFSETTO:-0700
TZNAME:PDT
DTSTART:20250309T100000
END:DAYLIGHT
BEGIN:STANDARD
TZOFFSETFROM:-0700
TZOFFSETTO:-0800
TZNAME:PST
DTSTART:20251102T090000
END:STANDARD
END:VTIMEZONE
BEGIN:VTIMEZONE
TZID:UTC
BEGIN:STANDARD
TZOFFSETFROM:+0000
TZOFFSETTO:+0000
TZNAME:UTC
DTSTART:20230101T000000
END:STANDARD
END:VTIMEZONE
BEGIN:VEVENT
DTSTART;TZID=America/Los_Angeles:20241106T090000
DTEND;TZID=America/Los_Angeles:20241106T130000
DTSTAMP:20260422T052040
CREATED:20240515T164306Z
LAST-MODIFIED:20240823T033820Z
UID:10000346-1730883600-1730898000@www.3c-ren.org
SUMMARY:Clean Energy Homes: How Realtors earn stellar referrals while boosting profits
DESCRIPTION:Register \nRealtors will learn new routes to increased profits as they guide clients to homes that are often superior on several levels: healthy\, safe\, comfortable\, durable\, resilient\, of higher quality and with lower costs of ownership. They’ll build expertise to realize higher sales prices and commissions\, faster marketing times\, stronger credibility\, and deeper personal fulfillment in their work. Those who’ve experienced living in a high-performance home treasure their homes! They testify to the quality of life and cost savings\, and this proof grows progressively stronger over time! These clients are even more than a good referral\, they’re advocates; one of the most valued assets any sales professional can have. Building on courses #1 & 2\, attendees will increase comprehension of why and how CE homes are outstanding. There’s a strong business case for Realtors! As they guide their buyers and sellers to CE homes\, they’re supporting their client’s best interests as well as the environment’s. Every house makes a difference! \nLearning Objectives: \n\nReferral Gold: Earn the strongest-ever referrals from extraordinarily happy clients\nExpand profit potential with the business opportunities of guiding clients to HP homes\nInform clients about benefits\, features\, and higher market values\nImprove selling effectiveness with compelling sales strategies and tools\nIncrease visibility of assets and benefits in listings and tour materials\nApply the whole-human approach to resonating with customers\n\nTarget Audience: Realtors\, & Sales Teams of Builders\, Developers\, Related Associates \nLearning Level: Beginner\, Intermediate\, Advanced \nContinuing Education Credits: 4 hours DRE  \nInstructor: Debra Little \nVisit https://ajo.earth/classes/ for more information.
URL:https://www.3c-ren.org/event/clean-energy-homes-how-realtors-earn-stellar-referrals-while-boosting-profits-2/
END:VEVENT
BEGIN:VEVENT
DTSTART;TZID=America/Los_Angeles:20241107T080000
DTEND;TZID=America/Los_Angeles:20241107T110000
DTSTAMP:20260422T052040
CREATED:20240724T154439Z
LAST-MODIFIED:20241002T230616Z
UID:10000379-1730966400-1730977200@www.3c-ren.org
SUMMARY:ZNCD: All-Electric Design & Construction Series – Day 2
DESCRIPTION:Register \nThis is an in-person course\, provided in partnership with the AIA California Central Coast Chapter.  \n8:30 AM – 11:00 AM  \nDoors open at 8:00 AM for coﬀee\, snacks and networking  \nEvent Description \nOn the path to Zero Net Carbon Design\, building electrification is the key to reducing operational carbon. In this course\, we’ll share the nuts and bolts of incorporating all-electric systems into residential and small commercial projects\, including tips for implementation as well as client communication. We’ll provide straightforward information on current systems and technologies plus a look ahead at what’s emerging in the market. \nThis series has been developed to fulfill the California requirement for five hours of ZNCD education as part of architecture license renewal. Although created with architects in mind\, the content is broadly applicable across the building industry.  \nLearning Objectives \n\nLearn the ‘why’ behind California’s shift to building electrification and the link to Zero Net Carbon Design \n\n\nLearn the pros and cons of various products to help in selecting appropriate systems that meet electrification and carbon-reduction goals \n\n\nLearn critical installation details such as dimensions and venting to call out in plans and/or identify early in construction \n\n\nUnderstand the local market for specific all-electric/ZNCD equipment\, including cost\, availability and lead times. \n\nAgenda \n\nOctober 10\, 2024\n\nPart 1: Carbon Reduction through Building Electrification will address California’s targets for carbon reduction\, status of the clean power grid\, the role of energy storage and emerging options for refrigerants. \nPart 2: ZNCD for Heat Pumps for heating and cooling will address ducted and ductless heat pumps for thermal comfort.  \nPart 3a: ZNCD for Domestic Hot Water will focus on integrated and split-system Heat Pump Water Heaters\, as well as combination systems and point-of-use electric resistance water heaters  \n\n\n\n  \n\nNovember 7\, 2024\n\nPart 3b: ZNCD for Domestic Hot Water will focus on integrated and split-system Heat Pump Water Heaters\, as well as combination systems and point-of-use electric resistance water heaters  \nPart 4: ZNCD for Ventilation and HRV will look at exhaust fans\, ducted ventilation and heat recovery ventilators that support energy efficiency and healthy interiors \nPart 5: ZNCD for Appliances & Energy Storage looks at electric options for cooktops\, dryers and other appliances as well as current and emerging battery technologies for energy storage. \n\n\n\n  \nLearning Units \n2.5 AIA HSW LUs approved for this course \nInstructors \nJennifer Rennick – In Balance Green Consulting \nAndy Pease – In Balance Green Consulting \nGrant Murphy – In Balance Green Consulting
URL:https://www.3c-ren.org/event/zncd-all-electric-design-construction-series-day-2/
LOCATION:RRM Design Group Training Room\, 3765 S Higuera St # 102\, San Luis Obispo\, California\, 93401
END:VEVENT
BEGIN:VEVENT
DTSTART;TZID=America/Los_Angeles:20241107T090000
DTEND;TZID=America/Los_Angeles:20241107T120000
DTSTAMP:20260422T052040
CREATED:20240515T165614Z
LAST-MODIFIED:20241009T042428Z
UID:10000347-1730970000-1730980800@www.3c-ren.org
SUMMARY:High Performance Homes: Valuation 2
DESCRIPTION:Register \nAdvancing appraiser training\, this class builds on the content of courses 1 & 2\, recommended as prerequisites. \nHow & Why: We’ll examine the details of a new all-electric\, carbon-free\, Passive House\, currently under construction. \nOutcomes: 12 benefits of high-performance homes \n\nHealth\nSafety\nComfort\nQuality\nDurability\nAesthetics\nEnergy efficient\nWater efficient\nResilient\nCosts less to own.\nLower greenhouse gas emissions\nMarket value\n\nClass exercises: Appraisers will practice application of knowledge gained in the \n 3-Course series to valuation questions pertaining to the example house. \nLearning Objectives \n\nGain comprehension of high-performance assets and their benefits\nDescribe 12 benefits of high-performance homes\nBe equipped with key questions to ask about comparables\nAppraisers will further develop their expertise\, gain practice in application\, and enjoy group discussion of appraisal approaches and challenges as we consider a real\, in-progress construction project\n\nTarget Audience \n\nExperienced Appraisers\n\nLearning Level: Intermediate and Advanced \n*Course is designed for those familiar with valuation principles \nContinuing Education Credits: 3 hours BREA\, BOE  \nInstructor: Debra Little
URL:https://www.3c-ren.org/event/high-performance-homes-valuation-2/
CATEGORIES:BPT
END:VEVENT
BEGIN:VEVENT
DTSTART;TZID=UTC:20241108T083000
DTEND;TZID=UTC:20241108T090000
DTSTAMP:20260422T052040
CREATED:20241023T233752Z
LAST-MODIFIED:20241024T230915Z
UID:10000391-1731054600-1731056400@www.3c-ren.org
SUMMARY:New Commercial Energy Savings Program: Contractor & Aggregator Learning Session
DESCRIPTION:Register \nEvent Description \n3C-REN is excited to introduce our new Commercial Energy Savings Program\, which launched on October 1st\, 2024. To help you learn more about how this program can benefit your business and customers\, we invite you to join us for an overview & training webinar designed specifically for contractors & aggregators like you. \nWhat to Expect \n• A detailed overview of the Commercial Energy Savings Program\n• How the $1.4 million incentive budget is broken down\n• Eligibility criteria and available incentives for projects in the small-medium business and municipal/government sectors\n• Step-by-step guidance on how to apply and participate in the program \nThis program offers tremendous value to your business and your customers\, and we’d love for you to join us to learn how you can take advantage of the opportunity. \nTo reserve your spot\, please register using the link above. If you have any questions before the webinar\, please don’t hesitate to reach out to reid@recurve.com
URL:https://www.3c-ren.org/event/new-commercial-energy-savings-program-contractor-aggregator-learning-session/
END:VEVENT
BEGIN:VEVENT
DTSTART;TZID=America/Los_Angeles:20241113T090000
DTEND;TZID=America/Los_Angeles:20241113T120000
DTSTAMP:20260422T052041
CREATED:20240529T192807Z
LAST-MODIFIED:20240823T033907Z
UID:10000349-1731488400-1731499200@www.3c-ren.org
SUMMARY:Health and Resilience of Clean Energy Homes
DESCRIPTION:Register \nHomeowner interest in our capacity to control indoor air quality and increase resilience has skyrocketed. Ventilation has been elevated from bathrooms to main living areas\, from a few seconds of exhaust to continuous delivery of fresh filtered air. Concerns around the ability to shelter in place during extreme events range from far-flung rural areas to cities. \nAir pollutants like respiratory viruses and wildfire smoke can be prevented from entering and overwhelming a home. \nThe certainty of a steady supply of clean\, filtered air would mean fewer days missed from school and sports activities along with better grades for our kids\, increased performance at work for adults\, reduced medical expenses\, and positive impacts on our local economies. Health insurance companies acknowledge this and are more frequently investing in energy upgrades\, particularly in low-income housing\, as a risk reduction; proven to be more cost-effective than the expenses of emergency room care and illness. \nMany efficiency improvements go beyond energy savings\, they also make homes healthier and more resilient during power losses\, fires\, and extraordinary weather. \nIt’s also possible that an efficiency project if not installed correctly\, can cause health problems. \nThe EPA\, in response to new research and the escalation in interest and concerns\, has created a new department – “Energy Plus Health”. \nDo assets that result in home resiliency and occupant health contribute to market value? What does the market tell us? \nRE pros pursuing expertise in Clean Energy Homes will advance their knowledge of potential improvements in home health and resiliency resulting from common efficiency improvements\, expanding their credibility as expert guides for their customers. \nCourse Highlights \n\nHow common efficiency assets improve health and resiliency\nHome performance elements vital to indoor air quality\nHealthy Housing Principles\nSmoke infiltration prevention\nCase studies of homes that survived wildfires\nExamples of resiliency in power losses\nConsiderations in marketing and valuation\n\nLearning Objectives \n\nComprehend the beyond-energy benefits of efficiency assets\nUnderstand what to look for in inspections and interviews\nAccurately describe specific efficiency assets and how they deliver health and resiliency\nCommunicate beyond-efficiency benefits in appraisal reports and listings\nEnhance your communication effectiveness with real stories of people who have experienced health improvements and tests of resiliency\n\nAudience \n\nExperienced appraisers\nAgents\nHomeowners\nContractors\n\nLearning level: Novice-advanced RE pros \nInstructor: Debra Little
URL:https://www.3c-ren.org/event/health-and-resilience-of-clean-energy-homes/
CATEGORIES:BPT
END:VEVENT
BEGIN:VEVENT
DTSTART;TZID=UTC:20241114T080000
DTEND;TZID=UTC:20241114T170000
DTSTAMP:20260422T052041
CREATED:20241004T225024Z
LAST-MODIFIED:20241004T225024Z
UID:10000385-1731571200-1731603600@www.3c-ren.org
SUMMARY:CEA/AEA Exam: Central Coast
DESCRIPTION:Register \nCertification as a Certified Energy Analyst (CEA) or Associate Energy Analyst (AEA) signifies that a consultant understands the California Building Energy Efficiency Standards (Title 24\, Part 6) and understands broader energy efficiency issues\, is committed to providing quality service to clients\, and that he/she has made a commitment to conduct business in an ethical fashion. Because CEAs have also made a commitment to ongoing educational requirements\, attending advanced industry training puts them on the cutting edge. \nCEAs are individuals who have demonstrated their mastery of the Residential and/or Nonresidential California Energy Standards through the following steps. \n\nPass the appropriate two-part (Multiple Choice and ACM Modeling) CEA Exam for Residential and/or Nonresidential.\nHave verified experience and/or education and other certifications related to Title 24 compliance work.\nParticipate in a Professional Practices Workshop (PPW)\, sponsored by CABEC.\nAttend at least nine hours per year of continuing education training.\n\nSince energy consultants are not regulated by the state\, CABEC designed the CEA to be a statement of an energy consultant’s working knowledge and understanding of the California Energy Efficiency Standards. When an energy consultant is a Certified Energy Analyst it is a statement to a building department\, builder\, architect\, or homeowner of the professional skills and knowledge of that energy consultant. This certification has become a highly regarded symbol of expertise within the industry and Title 24 compliance in California. \nTo prepare for the exam\, Energy Code Ace is offering a Residential CEA Exam Preparation Workshop scheduled for October 28th from 8:30am to 12:00pm.
URL:https://www.3c-ren.org/event/cea-aea-exam-central-coast/
LOCATION:Cal Poly Center for Innovation and Entrepreneurship (CIE)\, 872 Higuera St\, San Luis Obispo\, California\, 93401
END:VEVENT
BEGIN:VEVENT
DTSTART;TZID=America/Los_Angeles:20241114T090000
DTEND;TZID=America/Los_Angeles:20241114T103000
DTSTAMP:20260422T052041
CREATED:20240523T165131Z
LAST-MODIFIED:20240823T033936Z
UID:10000348-1731574800-1731580200@www.3c-ren.org
SUMMARY:Modeling All-Electric Homes in the 2022 Energy Code
DESCRIPTION:Register \nAll-Electric Homes are having their moment\, with state policies\, incentives\, and energy code providing builders\, homeowners\, and energy consultants a strong nudge toward all-electric designs. We will go over how to model all-electric homes (single family and multifamily) for maximum compliance benefit\, including the Variable Capacity Heat Pump (VCHP) compliance credit and Heat Pump Water Heaters. We’ll also cover PV sizing and how that may differ for all-electric homes and mixed-fuel homes. Retrofits and new construction will also be covered with examples using tri-county climate zones. \nLearning Outcomes: \n\nUnderstand why all-electric homes are important\nLearn the energy code requirements for heating and cooling\, water heating\, cooking\, and laundry\nUnderstand how electric systems perform under the performance method for Title 24 compliance\nHear best practices for modeling all-electric homes\n\nTarget Audience: \n\nEnergy consultants\nHomeowners\nGeneral contractors\nSubcontractors\nArchitects\n\nLearning Units: \n1.5 AIA LU approved for this course\n0.15 ICC CEU approved for this course \nInstructor: \nNick Brown\, Build Smart Group
URL:https://www.3c-ren.org/event/modeling-all-electric-homes-in-the-2022-energy-code-2/
END:VEVENT
BEGIN:VEVENT
DTSTART;TZID=UTC:20241119T130000
DTEND;TZID=UTC:20241119T153000
DTSTAMP:20260422T052041
CREATED:20241107T024229Z
LAST-MODIFIED:20241107T063308Z
UID:10000393-1732021200-1732030200@www.3c-ren.org
SUMMARY:Installing Heat Pump HVAC Systems in Manufactured Homes
DESCRIPTION:Register \nEvent Description \nManufactured homes are an underserved market for home energy upgrades that come with unique opportunities and challenges. Attend this in-person training to learn best practices for installing heat pump water heaters in a double wide manufactured home. Complementary lunch will be provided from Lincoln Deli. \nAttendees can meet at Chumash Village Community Room for lunch and can park outside the main building. After lunch they will move to a double wide unit located on site for the training. \nEvent Learning Objectives \n\nThe hurdles of doing ductwork in manufactured homes\nHow to size HVAC systems correctly\nThe refrigerant cycle: dos and don’ts\nProper installation techniques for energy efficiency\nThe importance of variable speed blowers\nProper wiring: why it is needed and what each wire does\nRisks caused by bad airflow\nProper maintenance\n\nInstructor \nJim McNamara\, CAPSLO
URL:https://www.3c-ren.org/event/installing-heat-pump-hvac-systems-in-manufactured-homes/
LOCATION:Chumash Village\, 3057 S Higuera St\, San Luis Obispo\, CA\, 93401\, United States
END:VEVENT
BEGIN:VEVENT
DTSTART;TZID=America/Los_Angeles:20241121T090000
DTEND;TZID=America/Los_Angeles:20241121T103000
DTSTAMP:20260422T052041
CREATED:20240712T165020Z
LAST-MODIFIED:20241021T225549Z
UID:10000373-1732179600-1732185000@www.3c-ren.org
SUMMARY:HRV and ERV Basics
DESCRIPTION:Register \nEvent Description \nHRV and ERV Basics will provide introductory level information about HRVs and ERVs and how they are installed in today’s homes. Information will be provided to enable learners to achieve the following learning objectives: \n\nDescribe how HRVs and ERVs provide fresh air into a home.\nIdentify the components of HRV and ERV systems.\nRecognize and plan for climate and occupancy in system design.\nExplain the difference between HRVs and ERVs and accurately select the appropriate system.\nUnderstand energy savings that can be achieved through correct installation of an HRV.\nDevelop basic system design: understanding specifications\, system types and sizing\, placement\, airflows\, system types and configurations.\n\nLearning Units  \n1 AIA LU Pending for this course \nInstructor \nEric Fenno\, Small Planet Supply
URL:https://www.3c-ren.org/event/hrv-and-erv-basics/
END:VEVENT
BEGIN:VEVENT
DTSTART;TZID=UTC:20241127T070000
DTEND;TZID=UTC:20241127T120000
DTSTAMP:20260422T052041
CREATED:20241120T015946Z
LAST-MODIFIED:20241120T015946Z
UID:10000397-1732690800-1732708800@www.3c-ren.org
SUMMARY:3C-REN Contractor Connection Hub at Standard Plumbing Supply
DESCRIPTION:Register \n \n \nEvent Flyer
URL:https://www.3c-ren.org/event/3c-ren-contractor-connection-hub-at-standard-plumbing-supply/
LOCATION:Standard Plumbing Supply & Hardware\, 3330 Saviers Rd\, Oxnard\, CA\, 93033\, United States
END:VEVENT
END:VCALENDAR