BEGIN:VCALENDAR
VERSION:2.0
PRODID:-//3C-REN - ECPv6.15.20//NONSGML v1.0//EN
CALSCALE:GREGORIAN
METHOD:PUBLISH
X-ORIGINAL-URL:https://www.3c-ren.org
X-WR-CALDESC:Events for 3C-REN
REFRESH-INTERVAL;VALUE=DURATION:PT1H
X-Robots-Tag:noindex
X-PUBLISHED-TTL:PT1H
BEGIN:VTIMEZONE
TZID:America/Los_Angeles
BEGIN:DAYLIGHT
TZOFFSETFROM:-0800
TZOFFSETTO:-0700
TZNAME:PDT
DTSTART:20230312T100000
END:DAYLIGHT
BEGIN:STANDARD
TZOFFSETFROM:-0700
TZOFFSETTO:-0800
TZNAME:PST
DTSTART:20231105T090000
END:STANDARD
BEGIN:DAYLIGHT
TZOFFSETFROM:-0800
TZOFFSETTO:-0700
TZNAME:PDT
DTSTART:20240310T100000
END:DAYLIGHT
BEGIN:STANDARD
TZOFFSETFROM:-0700
TZOFFSETTO:-0800
TZNAME:PST
DTSTART:20241103T090000
END:STANDARD
BEGIN:DAYLIGHT
TZOFFSETFROM:-0800
TZOFFSETTO:-0700
TZNAME:PDT
DTSTART:20250309T100000
END:DAYLIGHT
BEGIN:STANDARD
TZOFFSETFROM:-0700
TZOFFSETTO:-0800
TZNAME:PST
DTSTART:20251102T090000
END:STANDARD
END:VTIMEZONE
BEGIN:VEVENT
DTSTART;TZID=America/Los_Angeles:20240716T120000
DTEND;TZID=America/Los_Angeles:20240716T130000
DTSTAMP:20260421T050629
CREATED:20240611T233948Z
LAST-MODIFIED:20240823T040837Z
UID:10000357-1721131200-1721134800@www.3c-ren.org
SUMMARY:Renters' Guide to Creating an Energy Efficient Home
DESCRIPTION:Register \nAre you a renter trying to reduce the energy used in your home? Renters have more control over their energy use than you might think. \nJoin 3C-REN to discuss actions you can take to reduce energy use while saving money and creating a clean and comfortable home! \nAttendees will learn about: \n\nRenter-friendly actions to reduce home energy use\nWays to reduce natural gas in the home\nUsing the DIY Energy Saving Toolkits from 3C-REN\nBorrowing a portable induction cooktop from your local library\nMore climate-friendly tips from Resilient Central Coast
URL:https://www.3c-ren.org/event/renters-guide-to-creating-an-energy-efficient-home/
CATEGORIES:For Residents
END:VEVENT
END:VCALENDAR