BEGIN:VCALENDAR
VERSION:2.0
PRODID:-//3C-REN - ECPv6.15.20//NONSGML v1.0//EN
CALSCALE:GREGORIAN
METHOD:PUBLISH
X-ORIGINAL-URL:https://www.3c-ren.org
X-WR-CALDESC:Events for 3C-REN
REFRESH-INTERVAL;VALUE=DURATION:PT1H
X-Robots-Tag:noindex
X-PUBLISHED-TTL:PT1H
BEGIN:VTIMEZONE
TZID:America/Los_Angeles
BEGIN:DAYLIGHT
TZOFFSETFROM:-0800
TZOFFSETTO:-0700
TZNAME:PDT
DTSTART:20230312T100000
END:DAYLIGHT
BEGIN:STANDARD
TZOFFSETFROM:-0700
TZOFFSETTO:-0800
TZNAME:PST
DTSTART:20231105T090000
END:STANDARD
BEGIN:DAYLIGHT
TZOFFSETFROM:-0800
TZOFFSETTO:-0700
TZNAME:PDT
DTSTART:20240310T100000
END:DAYLIGHT
BEGIN:STANDARD
TZOFFSETFROM:-0700
TZOFFSETTO:-0800
TZNAME:PST
DTSTART:20241103T090000
END:STANDARD
BEGIN:DAYLIGHT
TZOFFSETFROM:-0800
TZOFFSETTO:-0700
TZNAME:PDT
DTSTART:20250309T100000
END:DAYLIGHT
BEGIN:STANDARD
TZOFFSETFROM:-0700
TZOFFSETTO:-0800
TZNAME:PST
DTSTART:20251102T090000
END:STANDARD
END:VTIMEZONE
BEGIN:VEVENT
DTSTART;TZID=America/Los_Angeles:20240411T120000
DTEND;TZID=America/Los_Angeles:20240411T130000
DTSTAMP:20260421T095513
CREATED:20240318T195037Z
LAST-MODIFIED:20240823T035705Z
UID:10000328-1712836800-1712840400@www.3c-ren.org
SUMMARY:Is a Heat Pump Water Heater Right for Me?
DESCRIPTION:Register \nDisponible en español aquí. \nWelcome heat-pump-curious residents of the Central Coast! Join us to discuss the pros and cons of heat pump water heaters with expert Gregory Holladay and local residents that live with heat pump water heaters. \nWe will answer questions like: \n\nIs a heat pump water heater appropriate for my home?\nAre they really that much better than gas water heaters?\nShould I wait until my gas water heater burns out to upgrade?\nWill I need electrical work done?\nHow much do they cost to install—and how will my bills change?\nAre they really more affordable than gas water heaters?\nWho can install heat pump water heaters?\nWill I run out of hot water?\n\nOur guest speaker is Gregg Holladay\, an expert on heat pump water heaters who spent 32 years with General Electric (GE)\, where he introduced the first Energy Star electric heat pump water heater to the US market. Currently a Business Development Manager for Specialty Markets for Bradford White Water Heaters\, Gregg works to educate utilities\, architects\, builders\, engineers and the plumbing/HVAC trade on the benefits of Energy Star heat pump water heaters and currently serves as a member of the Energy Star Manufacturers Action Council.
URL:https://www.3c-ren.org/event/is-a-heat-pump-water-heater-right-for-me/
CATEGORIES:For Residents
END:VEVENT
END:VCALENDAR