BEGIN:VCALENDAR
VERSION:2.0
PRODID:-//3C-REN - ECPv6.15.20//NONSGML v1.0//EN
CALSCALE:GREGORIAN
METHOD:PUBLISH
X-WR-CALNAME:3C-REN
X-ORIGINAL-URL:https://www.3c-ren.org
X-WR-CALDESC:Events for 3C-REN
REFRESH-INTERVAL;VALUE=DURATION:PT1H
X-Robots-Tag:noindex
X-PUBLISHED-TTL:PT1H
BEGIN:VTIMEZONE
TZID:America/Los_Angeles
BEGIN:DAYLIGHT
TZOFFSETFROM:-0800
TZOFFSETTO:-0700
TZNAME:PDT
DTSTART:20230312T100000
END:DAYLIGHT
BEGIN:STANDARD
TZOFFSETFROM:-0700
TZOFFSETTO:-0800
TZNAME:PST
DTSTART:20231105T090000
END:STANDARD
BEGIN:DAYLIGHT
TZOFFSETFROM:-0800
TZOFFSETTO:-0700
TZNAME:PDT
DTSTART:20240310T100000
END:DAYLIGHT
BEGIN:STANDARD
TZOFFSETFROM:-0700
TZOFFSETTO:-0800
TZNAME:PST
DTSTART:20241103T090000
END:STANDARD
BEGIN:DAYLIGHT
TZOFFSETFROM:-0800
TZOFFSETTO:-0700
TZNAME:PDT
DTSTART:20250309T100000
END:DAYLIGHT
BEGIN:STANDARD
TZOFFSETFROM:-0700
TZOFFSETTO:-0800
TZNAME:PST
DTSTART:20251102T090000
END:STANDARD
END:VTIMEZONE
BEGIN:VEVENT
DTSTART;TZID=America/Los_Angeles:20240229T140000
DTEND;TZID=America/Los_Angeles:20240229T150000
DTSTAMP:20260421T130106
CREATED:20240125T234011Z
LAST-MODIFIED:20240823T034749Z
UID:10000319-1709215200-1709218800@www.3c-ren.org
SUMMARY:DIY-Energy Savings Toolkit Workshop
DESCRIPTION:Register \nDo you know how much energy is used in your home? Want to learn how saving energy can affect you\, your home\, and our climate? \nThe Tri-County Regional Energy Network (3C-REN) has partnered with local libraries to provide Home Energy Savings DIY Toolkits and portable Induction Cooktops for your use! \nJoin us at Goleta Valley Library on Thursday\, February 29th\, at 2:00 PM for the DIY Energy Savings Toolkit Workshop. We will cover the tools and equipment\, as well as walk you through some of the easy ways to save energy and increase the comfort of your home. The kit has FREE items (Yes\, we said it\, “FREE!”) for you to install in your home and tools to conduct your home energy assessment and return after use. Additionally\, the presentation will cover how 3C-REN and the interactive website ClimateResilientSBC.org can help you take more climate friendly actions and reduce your home’s energy use. \nLight refreshments will be provided.
URL:https://www.3c-ren.org/event/diy-energy-savings-toolkit-workshop/
LOCATION:Goleta Valley Library\, United States
CATEGORIES:For Residents
END:VEVENT
END:VCALENDAR