BEGIN:VCALENDAR
VERSION:2.0
PRODID:-//3C-REN - ECPv6.15.20//NONSGML v1.0//EN
CALSCALE:GREGORIAN
METHOD:PUBLISH
X-WR-CALNAME:3C-REN
X-ORIGINAL-URL:https://www.3c-ren.org
X-WR-CALDESC:Events for 3C-REN
REFRESH-INTERVAL;VALUE=DURATION:PT1H
X-Robots-Tag:noindex
X-PUBLISHED-TTL:PT1H
BEGIN:VTIMEZONE
TZID:America/Los_Angeles
BEGIN:DAYLIGHT
TZOFFSETFROM:-0800
TZOFFSETTO:-0700
TZNAME:PDT
DTSTART:20230312T100000
END:DAYLIGHT
BEGIN:STANDARD
TZOFFSETFROM:-0700
TZOFFSETTO:-0800
TZNAME:PST
DTSTART:20231105T090000
END:STANDARD
BEGIN:DAYLIGHT
TZOFFSETFROM:-0800
TZOFFSETTO:-0700
TZNAME:PDT
DTSTART:20240310T100000
END:DAYLIGHT
BEGIN:STANDARD
TZOFFSETFROM:-0700
TZOFFSETTO:-0800
TZNAME:PST
DTSTART:20241103T090000
END:STANDARD
BEGIN:DAYLIGHT
TZOFFSETFROM:-0800
TZOFFSETTO:-0700
TZNAME:PDT
DTSTART:20250309T100000
END:DAYLIGHT
BEGIN:STANDARD
TZOFFSETFROM:-0700
TZOFFSETTO:-0800
TZNAME:PST
DTSTART:20251102T090000
END:STANDARD
END:VTIMEZONE
BEGIN:VEVENT
DTSTART;TZID=America/Los_Angeles:20240123T183000
DTEND;TZID=America/Los_Angeles:20240123T194500
DTSTAMP:20260421T144133
CREATED:20240108T185649Z
LAST-MODIFIED:20240823T034314Z
UID:10000315-1706034600-1706039100@www.3c-ren.org
SUMMARY:Home Electrification Workshop with Resilient Central Coast
DESCRIPTION:A recording can be found here. \nToday many homes on the Central Coast use natural gas or propane to power heating at home like space heating\, water heating\, cooking and drying clothes. The great news is it’s now easier than ever to power our homes with clean\, climate safe renewable energy and create a clean energy home. \nJoin 3C-REN in collaboration with Resilient Central Coast for this informative online workshop to learn about the important first steps to creating a clean energy home. Speakers will discuss resources and services available to help residents—from home evaluations and electrical system check-ups to working with contractors and accessing rebates and incentives. \n  \nRegister \n  \nAgenda Outline: \n\n6:30-6:40pm: Introductions & Home Electrification Overview (including the human and environmental health benefits) with Ecology Action\n6:40-7:10: Simplify your transition to a clean energy home through personalized home electrification plans\, consultations and access to a network of trusted contractors. Guest speakers Cooper Marcus from QuitCarbon and Mark Woods from G2e Home Energy Advisors LLC discuss the services they provide to residents and highlight important first steps.\n7:10-7:30: Learn how to stack incentives and rebates from local\, state\, and federal programs to maximize your cost savings—and in some cases\, cover your costs completely! Our guest speaker Lori La Riva from 3C-REN will discuss current incentive programs from 3C-REN\, 3CE\, and TECH\, with information on current IRA tax credits and future rebates.\n7:30-7:45: QA with all presenters
URL:https://www.3c-ren.org/event/home-electrification-workshop-with-resilient-central-coast/
CATEGORIES:For Residents
END:VEVENT
END:VCALENDAR