BEGIN:VCALENDAR
VERSION:2.0
PRODID:-//3C-REN - ECPv6.15.20//NONSGML v1.0//EN
CALSCALE:GREGORIAN
METHOD:PUBLISH
X-ORIGINAL-URL:https://www.3c-ren.org
X-WR-CALDESC:Events for 3C-REN
REFRESH-INTERVAL;VALUE=DURATION:PT1H
X-Robots-Tag:noindex
X-PUBLISHED-TTL:PT1H
BEGIN:VTIMEZONE
TZID:America/Los_Angeles
BEGIN:DAYLIGHT
TZOFFSETFROM:-0800
TZOFFSETTO:-0700
TZNAME:PDT
DTSTART:20220313T100000
END:DAYLIGHT
BEGIN:STANDARD
TZOFFSETFROM:-0700
TZOFFSETTO:-0800
TZNAME:PST
DTSTART:20221106T090000
END:STANDARD
BEGIN:DAYLIGHT
TZOFFSETFROM:-0800
TZOFFSETTO:-0700
TZNAME:PDT
DTSTART:20230312T100000
END:DAYLIGHT
BEGIN:STANDARD
TZOFFSETFROM:-0700
TZOFFSETTO:-0800
TZNAME:PST
DTSTART:20231105T090000
END:STANDARD
BEGIN:DAYLIGHT
TZOFFSETFROM:-0800
TZOFFSETTO:-0700
TZNAME:PDT
DTSTART:20240310T100000
END:DAYLIGHT
BEGIN:STANDARD
TZOFFSETFROM:-0700
TZOFFSETTO:-0800
TZNAME:PST
DTSTART:20241103T090000
END:STANDARD
END:VTIMEZONE
BEGIN:VEVENT
DTSTART;TZID=America/Los_Angeles:20230801T120000
DTEND;TZID=America/Los_Angeles:20230801T130000
DTSTAMP:20260421T220059
CREATED:20230501T235849Z
LAST-MODIFIED:20230501T235849Z
UID:10000231-1690891200-1690894800@www.3c-ren.org
SUMMARY:Heat Pumps for Homeowners – Products & Selection
DESCRIPTION:REGISTER\nHeat Pumps are quickly gaining traction as a preferred HVAC and water heating technology. California has a goal for 6 million installed heat pumps by 2030\, and state plans indicate that new gas furnace and water heaters will not be permitted after 2030. \nWhile the path forward for heat pumps seems clear\, many homeowners are looking to become more familiar with the technology. How do they work\, what options are available\, and what works best for different homes and for the central coast climate? In this webinar\, you’ll hear from Larry Waters\, who will answer all these questions and more! Larry is an HVAC industry veteran who’s installed nothing but heat pumps since 2015. \n3C-REN staff will also join to help you access all available incentives to make electrification affordable.
URL:https://www.3c-ren.org/event/heat-pumps-for-homeowners-products-selection/
CATEGORIES:For Residents
END:VEVENT
END:VCALENDAR