BEGIN:VCALENDAR
VERSION:2.0
PRODID:-//3C-REN - ECPv6.15.20//NONSGML v1.0//EN
CALSCALE:GREGORIAN
METHOD:PUBLISH
X-WR-CALNAME:3C-REN
X-ORIGINAL-URL:https://www.3c-ren.org
X-WR-CALDESC:Events for 3C-REN
REFRESH-INTERVAL;VALUE=DURATION:PT1H
X-Robots-Tag:noindex
X-PUBLISHED-TTL:PT1H
BEGIN:VTIMEZONE
TZID:America/Los_Angeles
BEGIN:DAYLIGHT
TZOFFSETFROM:-0800
TZOFFSETTO:-0700
TZNAME:PDT
DTSTART:20220313T100000
END:DAYLIGHT
BEGIN:STANDARD
TZOFFSETFROM:-0700
TZOFFSETTO:-0800
TZNAME:PST
DTSTART:20221106T090000
END:STANDARD
BEGIN:DAYLIGHT
TZOFFSETFROM:-0800
TZOFFSETTO:-0700
TZNAME:PDT
DTSTART:20230312T100000
END:DAYLIGHT
BEGIN:STANDARD
TZOFFSETFROM:-0700
TZOFFSETTO:-0800
TZNAME:PST
DTSTART:20231105T090000
END:STANDARD
BEGIN:DAYLIGHT
TZOFFSETFROM:-0800
TZOFFSETTO:-0700
TZNAME:PDT
DTSTART:20240310T100000
END:DAYLIGHT
BEGIN:STANDARD
TZOFFSETFROM:-0700
TZOFFSETTO:-0800
TZNAME:PST
DTSTART:20241103T090000
END:STANDARD
END:VTIMEZONE
BEGIN:VEVENT
DTSTART;TZID=America/Los_Angeles:20230525T120000
DTEND;TZID=America/Los_Angeles:20230525T130000
DTSTAMP:20260422T021644
CREATED:20230411T175848Z
LAST-MODIFIED:20230411T175848Z
UID:10000227-1685016000-1685019600@www.3c-ren.org
SUMMARY:Stop Your Pool From Draining Your Wallet!
DESCRIPTION:REGISTER\nIs being a pool owner driving up your energy bills? 3C-REN can help! Replace your pool pump with an energy efficient model at up to 75% off local contractor pricing with help from 3C-REN incentives. During our one hour webinar we will discuss options for more efficient pool pumping\, cleaning\, and heating. Justin Lie from Energy Pool will help you plan for your pool upgrade projects. Local pool contractors and their customers will join the call to share local projects and advice and to answer your questions.
URL:https://www.3c-ren.org/event/stop-your-pool-from-draining-your-wallet/
CATEGORIES:For Residents
END:VEVENT
END:VCALENDAR