BEGIN:VCALENDAR
VERSION:2.0
PRODID:-//3C-REN - ECPv6.15.20//NONSGML v1.0//EN
CALSCALE:GREGORIAN
METHOD:PUBLISH
X-WR-CALNAME:3C-REN
X-ORIGINAL-URL:https://www.3c-ren.org
X-WR-CALDESC:Events for 3C-REN
REFRESH-INTERVAL;VALUE=DURATION:PT1H
X-Robots-Tag:noindex
X-PUBLISHED-TTL:PT1H
BEGIN:VTIMEZONE
TZID:America/Los_Angeles
BEGIN:DAYLIGHT
TZOFFSETFROM:-0800
TZOFFSETTO:-0700
TZNAME:PDT
DTSTART:20230312T100000
END:DAYLIGHT
BEGIN:STANDARD
TZOFFSETFROM:-0700
TZOFFSETTO:-0800
TZNAME:PST
DTSTART:20231105T090000
END:STANDARD
BEGIN:DAYLIGHT
TZOFFSETFROM:-0800
TZOFFSETTO:-0700
TZNAME:PDT
DTSTART:20240310T100000
END:DAYLIGHT
BEGIN:STANDARD
TZOFFSETFROM:-0700
TZOFFSETTO:-0800
TZNAME:PST
DTSTART:20241103T090000
END:STANDARD
BEGIN:DAYLIGHT
TZOFFSETFROM:-0800
TZOFFSETTO:-0700
TZNAME:PDT
DTSTART:20250309T100000
END:DAYLIGHT
BEGIN:STANDARD
TZOFFSETFROM:-0700
TZOFFSETTO:-0800
TZNAME:PST
DTSTART:20251102T090000
END:STANDARD
END:VTIMEZONE
BEGIN:VEVENT
DTSTART;TZID=America/Los_Angeles:20241015T113000
DTEND;TZID=America/Los_Angeles:20241015T130000
DTSTAMP:20260425T062658
CREATED:20231201T230600Z
LAST-MODIFIED:20240823T033553Z
UID:10000286-1728991800-1728997200@www.3c-ren.org
SUMMARY:A Builder’s Perspective on Zero Net Energy
DESCRIPTION:Register \nFor the contractors and trades involved in residential and small commercial projects\, Zero Net Energy (ZNE)\, or near-ZNE\, is on the rise\, to meet the energy code as well as client expectations. Mike Horgan\, owner of Cairn Collaborative has been building comfortable\, efficient\, ZNE projects for 20 years. In this introductory course\, Mike will be joined by architect and CEA Jennifer Rennick to review critical components of ZNE including simple best practices to reduce energy loads\, increase comfort and indoor health and easily integrate electric equipment and appliances. Contractors\, builders and others in the trades won’t want to miss this course\, so next time a client asks for ZNE\, your answer is\, sure we can do that! \nLearning objectives \n\nUnderstand the drivers for ZNE and the related lingo including building electrification\, zero-carbon\, offsets\, true-ups and mixed-fuel.\nLearn the role of heat pumps for ZNE and tips for selection and installation of all-electric equipment for heating\, cooling and hot water\nBe able to help clients navigate all-electric choices for appliances including vent less dryers and induction cooktops.\nUnderstand options and best practices for incorporating renewable energy and battery storage.\n\nCairn Collaborative is a certified passive house design team and builder committed to promoting healthy\, comfortable\, and responsible low-energy\, low-carbon design and construction.
URL:https://www.3c-ren.org/event/zero-net-energy-for-builders/
CATEGORIES:BPT
END:VEVENT
BEGIN:VEVENT
DTSTART;TZID=America/Los_Angeles:20241018T080000
DTEND;TZID=America/Los_Angeles:20241018T093000
DTSTAMP:20260425T062658
CREATED:20240607T193136Z
LAST-MODIFIED:20240823T033630Z
UID:10000355-1729238400-1729243800@www.3c-ren.org
SUMMARY:Building the Future: Electrification Strategies for Electricians
DESCRIPTION:Register \nElectrification is taking form in California – over 70 municipalities have policies phasing out gas appliances and the state aims to have 6 million heat pumps installed by 2030. The massive infrastructure transition from gas to electric will “spark” giant demand for skilled electricians and presents a unique business opportunity. In this session\, Electrify My Home will introduce these business opportunities and cover some of the most important electrical best practices for long-term home electrical planning. \n  \nLearning Objectives: \n\nExplain the importance of comprehensive electrification planning.\nName two technologies that help avoid panel upgrades.\nExplain why electrification presents unique business opportunities for electricians\n\n  \n1.5 AIA LU’s Approved for this course \n0.15 ICC CEU’s Pending for this Course \n\n  \nInstructor: \nLarry Waters\, Electrify My Home
URL:https://www.3c-ren.org/event/building-the-future-electrification-strategies-for-electricians/
LOCATION:Zoom link provided upon registration
CATEGORIES:BPT,ECC
END:VEVENT
BEGIN:VEVENT
DTSTART;TZID=America/Los_Angeles:20241023T090000
DTEND;TZID=America/Los_Angeles:20241023T120000
DTSTAMP:20260425T062658
CREATED:20240514T193744Z
LAST-MODIFIED:20240823T033703Z
UID:10000344-1729674000-1729684800@www.3c-ren.org
SUMMARY:Solar PV: Technology and Valuation
DESCRIPTION:Register \nAppraisers and Realtors will advance their credibility and competency to better serve their clients with solar-powered homes. Newly constructed homes have been required to have solar as of 2020 and existing home installations remain on an ongoing upward trend. How much value does solar add? What is the most essential number we need related to valuation? While saving money is the primary motive for homeowners to invest in solar\, CA building codes and energy policies are key market drivers as goals prioritize decarbonization; all-electric buildings powered by solar. Attendees will be better equipped to represent solar assets accurately in sales\, competently determine value\, and be credible guides for buyers and sellers. \nLearning Objectives: \n\nAnswer essential questions regarding the valuation of a solar system\nIdentify components of solar systems\nBe aware of variations in utility rates and their impact on value\nUnderstand motives and market influencers of homeowner decisions\nDetermine the value of solar PV systems: 3 appraisal approaches\nAccurately represent solar in listings including vital points to inform value\nStakeholder’s shared pool of knowledge to support fair valuations\n\nTarget Audience: \nReal Estate Appraisers\, Agents\, Lenders\, Related Associates \nLearning Level: Intermediate \n*Course is designed for those familiar with valuation principles \nContinuing Education Credits: 3 hours continuing ed. BREA\, DRE\, BOE \nInstructor: Debra Little \nVisit https://ajo.earth/classes/ for more information.
URL:https://www.3c-ren.org/event/solar-pv-technology-and-valuation-3/
CATEGORIES:BPT
END:VEVENT
BEGIN:VEVENT
DTSTART;TZID=America/Los_Angeles:20241024T093000
DTEND;TZID=America/Los_Angeles:20241024T110000
DTSTAMP:20260425T062658
CREATED:20231207T211104Z
LAST-MODIFIED:20241008T002103Z
UID:10000296-1729762200-1729767600@www.3c-ren.org
SUMMARY:Appliances and Energy Storage - Part 5: All-Electric Design and Construction Series
DESCRIPTION:Register \nAll-Electric Design & Construction Series \nOn the path to Zero Net Carbon Design\, building electrification is the key to reducing operational carbon. In this course\, we’ll share the nuts and bolts of incorporating all-electric systems into residential and small commercial projects\, including tips for implementation as well as client communication. We’ll provide straight-forward information on current systems and technologies plus a look ahead at what’s emerging in the market. \nPart 1: Carbon Reduction through Building Electrification will address California’s targets for carbon reduction\, status of the clean power grid\, the role of energy storage and emerging options for refrigerants. \nPart 2: Heat Pumps for Heating and Cooling\, will address ducted and ductless heat pumps for thermal comfort. \nPart 3: Domestic Hot Water\, will focus on integrated and split-system Heat Pump Water Heaters\, as well as combination systems and point-of-use electric resistance water heaters \nPart 4: Ventilation and HRV\, will look at exhaust fans\, ducted ventilation and heat recovery ventilators that support energy efficiency and healthy interiors \nPart 5: Appliances & Energy Storage\, looks at electric options for cooktops\, dryers and other appliances as well as current and emerging battery technologies for energy storage. \nLearning Objectives \n\nLearn the ‘why’ behind California’s shift to building electrification and the link to Zero Net Carbon Design\nLearn the pros and cons of various products to help in selecting appropriate systems that meet electrification and carbon-reduction goals\nLearn critical installation details such as dimensions and venting to call out in plans and/or identify early in construction\nUnderstand the local market for specific all-electric/ZNCD equipment\, including cost\, availability and lead times\n\nInstructors: Jennifer Rennick and Andy Pease\, In Balance Green Consulting \nThis series has been developed to fulfill the California requirement for five hours of ZNCD education as part of architecture license renewal. Although created with architects in mind\, the content is broadly applicable across the building industry. \nZero Net Carbon Design CEUs Available\, 1 HSW|LU per class\, 5 HSW|LUs in total.
URL:https://www.3c-ren.org/event/all-electric-in-design-and-construction-part-5-all-electric-home-appliances/
CATEGORIES:BPT
END:VEVENT
BEGIN:VEVENT
DTSTART;TZID=America/Los_Angeles:20241030T090000
DTEND;TZID=America/Los_Angeles:20241030T120000
DTSTAMP:20260425T062658
CREATED:20240515T162433Z
LAST-MODIFIED:20240823T033758Z
UID:10000345-1730278800-1730289600@www.3c-ren.org
SUMMARY:Carbon-Free Homes: Features\, Benefits\, Valuation
DESCRIPTION:Register \nThis is the ENERGY EFFICIENCY class of the series. \nDo you know? CA policy goals no longer aim for net zero energy. Going forward\, it’s all about emissions reductions. CA’s building codes and energy policy impact the way homes are built and powered. Homes of the future will be carbon-free! Efficient\, all-electric\, powered by clean energy. How will the new requirements impact their market value? What benefits do buyers care about? Carbon free homes are typically more healthy\, safe\, comfortable\, durable\, resilient\, and cost less to own. Their high performance elevates occupant’s quality of life while delivering multiple societal benefits including cleaner air and water. \nAttendees will gain comprehension of specific features typical to carbon-free new and existing homes. In valuation or guiding customers in buying and selling\, the proficiency gained in this course will be a professional differentiator that strengthens their business. \nLearning Objectives \n\nRecognize building elements typical to carbon-free homes\nUnderstand emissions-reducing efficiency\nDescribe benefits of CF homes including indoor air quality and energy savings\nComprehend why air tightness is even more important than insulation\nRelate how families have realized health improvements such as asthma\nGain familiarity with current building codes and energy policy\nComprehend approaches to valuation of efficiency assets and solar PV\nAccurately represent carbon free homes in sales listings and appraisal reporting\n\nAudience: Experienced Appraisers\, Agents\, Lenders\, Related Professionals \nLearning Level: Intermediate and Advanced \n*Course is designed for those familiar with valuation principles \nContinuing Education Credits: 3 hours BREA\, DRE\, BOE \nInstructor: Debra Little \nVisit https://ajo.earth/classes/ for more information.
URL:https://www.3c-ren.org/event/carbon-free-homes-features-benefits-valuation-3/
CATEGORIES:BPT
END:VEVENT
END:VCALENDAR