BEGIN:VCALENDAR
VERSION:2.0
PRODID:-//3C-REN - ECPv6.15.20//NONSGML v1.0//EN
CALSCALE:GREGORIAN
METHOD:PUBLISH
X-ORIGINAL-URL:https://www.3c-ren.org
X-WR-CALDESC:Events for 3C-REN
REFRESH-INTERVAL;VALUE=DURATION:PT1H
X-Robots-Tag:noindex
X-PUBLISHED-TTL:PT1H
BEGIN:VTIMEZONE
TZID:America/Los_Angeles
BEGIN:DAYLIGHT
TZOFFSETFROM:-0800
TZOFFSETTO:-0700
TZNAME:PDT
DTSTART:20230312T100000
END:DAYLIGHT
BEGIN:STANDARD
TZOFFSETFROM:-0700
TZOFFSETTO:-0800
TZNAME:PST
DTSTART:20231105T090000
END:STANDARD
BEGIN:DAYLIGHT
TZOFFSETFROM:-0800
TZOFFSETTO:-0700
TZNAME:PDT
DTSTART:20240310T100000
END:DAYLIGHT
BEGIN:STANDARD
TZOFFSETFROM:-0700
TZOFFSETTO:-0800
TZNAME:PST
DTSTART:20241103T090000
END:STANDARD
BEGIN:DAYLIGHT
TZOFFSETFROM:-0800
TZOFFSETTO:-0700
TZNAME:PDT
DTSTART:20250309T100000
END:DAYLIGHT
BEGIN:STANDARD
TZOFFSETFROM:-0700
TZOFFSETTO:-0800
TZNAME:PST
DTSTART:20251102T090000
END:STANDARD
END:VTIMEZONE
BEGIN:VEVENT
DTSTART;TZID=America/Los_Angeles:20240906T080000
DTEND;TZID=America/Los_Angeles:20240906T093000
DTSTAMP:20260425T080620
CREATED:20240607T192820Z
LAST-MODIFIED:20240823T024124Z
UID:10000354-1725609600-1725615000@www.3c-ren.org
SUMMARY:Building the Future: Electrification Strategies for Plumbers
DESCRIPTION:Register \nElectrification is taking form in California – gas water heaters are being based out in the Bay Area by 2027 and over 70 municipalities have policies phasing out gas appliances. The massive transition from gas to electric will “spark” giant demand for all trades\, including plumbers. In this session\, Electrify My Home will introduce unique business opportunities for plumbers with a focus on heat pump water heaters\, strategies for collaborating with other trades (e.g.\, electricians)\, and the importance of comprehensive electrification planning. \n  \nLearning Objectives: \n\nDescribe one feature of gas water heaters that’s lead to their phase-out.\nWhat is the percentage of California homes with a gas water heater?\nExplain why heat pump water heaters can be helpful for the electrical grid\n\n  \n1.5 AIA LU’s Approved for this course \n0.15 ICC CEU’s Pending for this Course \n\n  \nInstructor: \nLarry Waters\, Electrify My Home
URL:https://www.3c-ren.org/event/building-the-future-electrification-strategies-for-plumbers/
LOCATION:Zoom link provided upon registration
CATEGORIES:BPT,ECC
END:VEVENT
BEGIN:VEVENT
DTSTART;TZID=America/Los_Angeles:20240919T093000
DTEND;TZID=America/Los_Angeles:20240919T110000
DTSTAMP:20260425T080620
CREATED:20231207T205909Z
LAST-MODIFIED:20240823T024310Z
UID:10000295-1726738200-1726743600@www.3c-ren.org
SUMMARY:Ventilation and HRV - Part 4: All-Electric Design and Construction Series
DESCRIPTION:Register \nAll-Electric Design & Construction Series \nOn the path to Zero Net Carbon Design\, building electrification is the key to reducing operational carbon. In this course\, we’ll share the nuts and bolts of incorporating all-electric systems into residential and small commercial projects\, including tips for implementation as well as client communication. We’ll provide straight-forward information on current systems and technologies plus a look ahead at what’s emerging in the market. \nPart 1: Carbon Reduction through Building Electrification will address California’s targets for carbon reduction\, status of the clean power grid\, the role of energy storage and emerging options for refrigerants. \nPart 2: Heat Pumps for Heating and Cooling\, will address ducted and ductless heat pumps for thermal comfort. \nPart 3: Domestic Hot Water\, will focus on integrated and split-system Heat Pump Water Heaters\, as well as combination systems and point-of-use electric resistance water heaters \nPart 4: Ventilation and HRV\, will look at exhaust fans\, ducted ventilation and heat recovery ventilators that support energy efficiency and healthy interiors \nPart 5: Appliances & Energy Storage\, looks at electric options for cooktops\, dryers and other appliances as well as current and emerging battery technologies for energy storage. \nLearning Objectives \n\n Learn the ‘why’ behind California’s shift to building electrification and the link to Zero Net Carbon Design\nLearn the pros and cons of various products to help in selecting appropriate systems that meet electrification and carbon-reduction goals\n Learn critical installation details such as dimensions and venting to call out in plans and/or identify early in construction\nUnderstand the local market for specific all-electric/ZNCD equipment\, including cost\, availability and lead times\n\nInstructors: Jennifer Rennick and Andy Pease\, In Balance Green Consulting \nThis series has been developed to fulfill the California requirement for five hours of ZNCD education as part of architecture license renewal. Although created with architects in mind\, the content is broadly applicable across the building industry. \nZero Net Carbon Design CEUs Available\, 1 HSW|LU per class\, 5 HSW|LUs in total.
URL:https://www.3c-ren.org/event/all-electric-in-design-and-construction-part-4-ventilation-and-hrv/
CATEGORIES:BPT
END:VEVENT
END:VCALENDAR