BEGIN:VCALENDAR
VERSION:2.0
PRODID:-//3C-REN - ECPv6.15.20//NONSGML v1.0//EN
CALSCALE:GREGORIAN
METHOD:PUBLISH
X-ORIGINAL-URL:https://www.3c-ren.org
X-WR-CALDESC:Events for 3C-REN
REFRESH-INTERVAL;VALUE=DURATION:PT1H
X-Robots-Tag:noindex
X-PUBLISHED-TTL:PT1H
BEGIN:VTIMEZONE
TZID:America/Los_Angeles
BEGIN:DAYLIGHT
TZOFFSETFROM:-0800
TZOFFSETTO:-0700
TZNAME:PDT
DTSTART:20230312T100000
END:DAYLIGHT
BEGIN:STANDARD
TZOFFSETFROM:-0700
TZOFFSETTO:-0800
TZNAME:PST
DTSTART:20231105T090000
END:STANDARD
BEGIN:DAYLIGHT
TZOFFSETFROM:-0800
TZOFFSETTO:-0700
TZNAME:PDT
DTSTART:20240310T100000
END:DAYLIGHT
BEGIN:STANDARD
TZOFFSETFROM:-0700
TZOFFSETTO:-0800
TZNAME:PST
DTSTART:20241103T090000
END:STANDARD
BEGIN:DAYLIGHT
TZOFFSETFROM:-0800
TZOFFSETTO:-0700
TZNAME:PDT
DTSTART:20250309T100000
END:DAYLIGHT
BEGIN:STANDARD
TZOFFSETFROM:-0700
TZOFFSETTO:-0800
TZNAME:PST
DTSTART:20251102T090000
END:STANDARD
END:VTIMEZONE
BEGIN:VEVENT
DTSTART;TZID=America/Los_Angeles:20240808T093000
DTEND;TZID=America/Los_Angeles:20240808T110000
DTSTAMP:20260425T092402
CREATED:20231207T203429Z
LAST-MODIFIED:20240823T041040Z
UID:10000293-1723109400-1723114800@www.3c-ren.org
SUMMARY:Heat Pumps for Heating and Cooling - Part 2: All-Electric Design and Construction Series
DESCRIPTION:Register \nAll-Electric Design & Construction Series \nOn the path to Zero Net Carbon Design\, building electrification is the key to reducing operational carbon. In this course\, we’ll share the nuts and bolts of incorporating all-electric systems into residential and small commercial projects\, including tips for implementation as well as client communication. We’ll provide straight-forward information on current systems and technologies plus a look ahead at what’s emerging in the market. \nPart 1: Carbon Reduction through Building Electrification will address California’s targets for carbon reduction\, status of the clean power grid\, the role of energy storage and emerging options for refrigerants. \nPart 2: Heat Pumps for Heating and Cooling\, will address ducted and ductless heat pumps for thermal comfort. \nPart 3: Domestic Hot Water\, will focus on integrated and split-system Heat Pump Water Heaters\, as well as combination systems and point-of-use electric resistance water heaters \nPart 4: Ventilation and HRV\, will look at exhaust fans\, ducted ventilation and heat recovery ventilators that support energy efficiency and healthy interiors \nPart 5: Appliances & Energy Storage\, looks at electric options for cooktops\, dryers and other appliances as well as current and emerging battery technologies for energy storage. \nLearning Objectives \n\nLearn the ‘why’ behind California’s shift to building electrification and the link to Zero Net Carbon Design\nLearn the pros and cons of various products to help in selecting appropriate systems that meet electrification and carbon-reduction goals\nLearn critical installation details such as dimensions and venting to call out in plans and/or identify early in construction\nUnderstand the local market for specific all-electric/ZNCD equipment\, including cost\, availability and lead times\n\nInstructors: Jennifer Rennick and Grant Murphy\, In Balance Green Consulting \nThis series has been developed to fulfill the California requirement for five hours of ZNCD education as part of architecture license renewal. Although created with architects in mind\, the content is broadly applicable across the building industry. \nZero Net Carbon Design CEUs Available\, 1 HSW|LU per class\, 5 HSW|LUs in total.
URL:https://www.3c-ren.org/event/all-electric-in-design-and-construction-series-part-2-ducted-heat-pumps/
CATEGORIES:BPT
END:VEVENT
BEGIN:VEVENT
DTSTART;TZID=America/Los_Angeles:20240822T120000
DTEND;TZID=America/Los_Angeles:20240822T130000
DTSTAMP:20260425T092402
CREATED:20240503T204730Z
LAST-MODIFIED:20240815T012157Z
UID:10000340-1724328000-1724331600@www.3c-ren.org
SUMMARY:Talking Real Benefits for REALTORS
DESCRIPTION:Register \nGreen Marketing Roundtable Part 4: Talking Real Benefits\n“Green Eileen” will host a series of Green Real Estate Marketing Roundtables\, with surprise energy-efficiency guests joining for some sessions. She will guide Real Estate Professionals through various proven marketing techniques and tips she has used successfully in her own Green Real Estate Business over the years to help attendees develop and enhance their green real estate marketing practices. \nIn this fun and face-paced program\, Eileen will be answering the question\, “How do I work with green homes?” \n\nLearn what to look for and questions to ask when listing a home or working with a buyer.\nHow to talk about the benefits of high-performance homes in ways customers can understand.\nExplore MLS listings that feature energy efficiency to see which do a good job highlighting these features and which could use some improvement.\n\nInstructor: \nEileen Oldroyd
URL:https://www.3c-ren.org/event/talking-real-benefits-for-realtors/
LOCATION:Zoom link provided upon registration
CATEGORIES:BPT,ECC
END:VEVENT
BEGIN:VEVENT
DTSTART;TZID=America/Los_Angeles:20240823T080000
DTEND;TZID=America/Los_Angeles:20240823T093000
DTSTAMP:20260425T092402
CREATED:20240607T192600Z
LAST-MODIFIED:20240823T023718Z
UID:10000353-1724400000-1724405400@www.3c-ren.org
SUMMARY:Building the Future: Electrification Strategies for Contractors and Architects
DESCRIPTION:Register \nElectrification is now the leading option for new buildings and major retrofit projects in California. 70+ municipalities have policies to phase out gas appliances and the state aims to have 6 million heat pumps installed by 2030. This will require a major paradigm shift in the way builders\, architects\, and related professionals approach the market. It also presents a giant opportunity to frame yourself or your business as an electrification expert. In this session\, Electrify My Home will discuss this transition and the related business opportunity for specifying and installing well-designed all-electric buildings. \n  \nLearning Objectives: \n\nExplain the importance of comprehensive electrification planning.\nList one reason why commissioning is important for HVAC systems.\nDescribe the benefit of keeping ductwork within the building enclosure.\n\n  \n1.5 AIA LU’s Approved for this course \n0.15 ICC CEU’s Pending for this Course \n\n  \nInstructor: \nLarry Waters\, Electrify My Home
URL:https://www.3c-ren.org/event/building-the-future-electrification-strategies-for-contractors-and-architects/
LOCATION:Zoom link provided upon registration
CATEGORIES:BPT,ECC
END:VEVENT
BEGIN:VEVENT
DTSTART;TZID=America/Los_Angeles:20240829T093000
DTEND;TZID=America/Los_Angeles:20240829T110000
DTSTAMP:20260425T092402
CREATED:20231207T205359Z
LAST-MODIFIED:20240823T023927Z
UID:10000294-1724923800-1724929200@www.3c-ren.org
SUMMARY:Domestic Hot Water - Part 3: All-Electric Design and Construction Series
DESCRIPTION:Register \nAll-Electric Design & Construction Series \nOn the path to Zero Net Carbon Design\, building electrification is the key to reducing operational carbon. In this course\, we’ll share the nuts and bolts of incorporating all-electric systems into residential and small commercial projects\, including tips for implementation as well as client communication. We’ll provide straight-forward information on current systems and technologies plus a look ahead at what’s emerging in the market. \nPart 1: Carbon Reduction through Building Electrification will address California’s targets for carbon reduction\, status of the clean power grid\, the role of energy storage and emerging options for refrigerants. \nPart 2: Heat Pumps for Heating and Cooling\, will address ducted and ductless heat pumps for thermal comfort. \nPart 3: Domestic Hot Water\, will focus on integrated and split-system Heat Pump Water Heaters\, as well as combination systems and point-of-use electric resistance water heaters \nPart 4: Ventilation and HRV\, will look at exhaust fans\, ducted ventilation and heat recovery ventilators that support energy efficiency and healthy interiors \nPart 5: Appliances & Energy Storage\, looks at electric options for cooktops\, dryers and other appliances as well as current and emerging battery technologies for energy storage. \nLearning Objectives \n\nLearn the ‘why’ behind California’s shift to building electrification and the link to Zero Net Carbon Design\nLearn the pros and cons of various products to help in selecting appropriate systems that meet electrification and carbon-reduction goals\nLearn critical installation details such as dimensions and venting to call out in plans and/or identify early in construction\nUnderstand the local market for specific all-electric/ZNCD equipment\, including cost\, availability and lead times\n\nInstructors: Jennifer Rennick and Michelle Zimney\, In Balance Green Consulting \nThis series has been developed to fulfill the California requirement for five hours of ZNCD education as part of architecture license renewal. Although created with architects in mind\, the content is broadly applicable across the building industry. \nZero Net Carbon Design CEUs Available\, 1 HSW|LU per class\, 5 HSW|LUs in total. \nInstructors: Jennifer Rennick and Michelle Zimney\, In Balance Green Consulting
URL:https://www.3c-ren.org/event/all-electric-in-design-and-construction-series-part-3-domestic-hot-water/
CATEGORIES:BPT
END:VEVENT
END:VCALENDAR