BEGIN:VCALENDAR
VERSION:2.0
PRODID:-//3C-REN - ECPv6.15.20//NONSGML v1.0//EN
CALSCALE:GREGORIAN
METHOD:PUBLISH
X-WR-CALNAME:3C-REN
X-ORIGINAL-URL:https://www.3c-ren.org
X-WR-CALDESC:Events for 3C-REN
REFRESH-INTERVAL;VALUE=DURATION:PT1H
X-Robots-Tag:noindex
X-PUBLISHED-TTL:PT1H
BEGIN:VTIMEZONE
TZID:America/Los_Angeles
BEGIN:DAYLIGHT
TZOFFSETFROM:-0800
TZOFFSETTO:-0700
TZNAME:PDT
DTSTART:20250309T100000
END:DAYLIGHT
BEGIN:STANDARD
TZOFFSETFROM:-0700
TZOFFSETTO:-0800
TZNAME:PST
DTSTART:20251102T090000
END:STANDARD
BEGIN:DAYLIGHT
TZOFFSETFROM:-0800
TZOFFSETTO:-0700
TZNAME:PDT
DTSTART:20260308T100000
END:DAYLIGHT
BEGIN:STANDARD
TZOFFSETFROM:-0700
TZOFFSETTO:-0800
TZNAME:PST
DTSTART:20261101T090000
END:STANDARD
BEGIN:DAYLIGHT
TZOFFSETFROM:-0800
TZOFFSETTO:-0700
TZNAME:PDT
DTSTART:20270314T100000
END:DAYLIGHT
BEGIN:STANDARD
TZOFFSETFROM:-0700
TZOFFSETTO:-0800
TZNAME:PST
DTSTART:20271107T090000
END:STANDARD
END:VTIMEZONE
BEGIN:VEVENT
DTSTART;TZID=America/Los_Angeles:20260421T180000
DTEND;TZID=America/Los_Angeles:20260421T191500
DTSTAMP:20260422T082432
CREATED:20260416T210836Z
LAST-MODIFIED:20260416T210946Z
UID:10000535-1776794400-1776798900@www.3c-ren.org
SUMMARY:Start Your Home Electrification Journey in the Kitchen 
DESCRIPTION:Register \nAre you interested in learning about the benefits of home electrification and where to begin? \nDuring this webinar\, Ecology Action will cover why induction cooking is winning professional cooks over\, how modern heat pumps deliver efficient comfort in home heating and cooling\, and where to start with a quick home assessment. \nThe Tri-County Regional Energy Network (3C-REN) will walk through incentives and rebates available to Central Coast residents from a variety of programs (including new rebates for induction cooktops/ranges and portable heat pumps)\, and demystify costs\, contractors\, and timelines. \noin live for Q&A and a chance to win a portable induction cooktop (must attend to be eligible).
URL:https://www.3c-ren.org/event/start-your-home-electrification-journey-in-the-kitchen/
END:VEVENT
END:VCALENDAR